BEGIN:VCALENDAR
VERSION:2.0
PRODID:-//hacksw/handcal//NONSGML v1.0//EN
BEGIN:VEVENT
UID:webmaster@cooper.edu
DTSTAMP; TZID=America/New_York:20151022T183000
ORGANIZER;CN=The Cooper Union:MAILTO:webmaster@cooper.edu
DTSTART; TZID=America/New_York:20151022T183000
DTEND; TZID=America/New_York:20151022T210000
SUMMARY:DISCOTROPIC | Alien Talk Show
DESCRIPTION:In a free, public event multi-medium artist niv Acosta uses television and the confessional culture of the talk show to explore the relationships between science fiction, disco, astrophysics, and the black American experience
END:VEVENT
END:VCALENDAR
