BEGIN:VCALENDAR
VERSION:2.0
PRODID:-//hacksw/handcal//NONSGML v1.0//EN
BEGIN:VEVENT
UID:webmaster@cooper.edu
DTSTAMP; TZID=America/New_York:20151001T183000
ORGANIZER;CN=The Cooper Union:MAILTO:webmaster@cooper.edu
DTSTART; TZID=America/New_York:20151001T183000
DTEND; TZID=America/New_York:20151001T203000
SUMMARY:Texas Deco: Modernistic Architecture in the Lone Star State
DESCRIPTION:An illustrated talk about the spectacular, yet often overlooked, Deco architecture of the 1936 Texas Centennial Exposition
END:VEVENT
END:VCALENDAR
