BEGIN:VCALENDAR
VERSION:2.0
PRODID:-//hacksw/handcal//NONSGML v1.0//EN
BEGIN:VEVENT
UID:webmaster@cooper.edu
DTSTAMP; TZID=America/New_York:20150915T190000
ORGANIZER;CN=The Cooper Union:MAILTO:webmaster@cooper.edu
DTSTART; TZID=America/New_York:20150915T190000
DTEND; TZID=America/New_York:20150915T203000
SUMMARY:Art and the Practice of Freedom
DESCRIPTION:A free public lecture by MTL Collective (Natasha Dhillon and Amin Husain) that will explore the blurring of the lines between art and activism
END:VEVENT
END:VCALENDAR
