BEGIN:VCALENDAR
VERSION:2.0
PRODID:-//hacksw/handcal//NONSGML v1.0//EN
BEGIN:VEVENT
UID:webmaster@cooper.edu
DTSTAMP; TZID=America/New_York:20150908T190000
ORGANIZER;CN=The Cooper Union:MAILTO:webmaster@cooper.edu
DTSTART; TZID=America/New_York:20150908T190000
DTEND; TZID=America/New_York:20150908T203000
SUMMARY:look now away closely
DESCRIPTION:In a free, public lecture, Prof. David Gersten will address questions of transformation from a number of perspectives, specifically looking at the interdependence of our conceptions of risk and our spaces of education
END:VEVENT
END:VCALENDAR
