BEGIN:VCALENDAR
VERSION:2.0
PRODID:-//hacksw/handcal//NONSGML v1.0//EN
BEGIN:VEVENT
UID:webmaster@cooper.edu
DTSTAMP; TZID=America/New_York:20151016T183000
ORGANIZER;CN=The Cooper Union:MAILTO:webmaster@cooper.edu
DTSTART; TZID=America/New_York:20151016T183000
DTEND; TZID=America/New_York:20151016T213000
SUMMARY:Between Debt & the Devil: A Book Discussion
DESCRIPTION:A free, public talk between Martin Wolf of the Financial Times and Adair Turner on his new book, subtitled, "Money, Credit, and Fixing Global Finance"
END:VEVENT
END:VCALENDAR
