BEGIN:VCALENDAR
VERSION:2.0
PRODID:-//hacksw/handcal//NONSGML v1.0//EN
BEGIN:VEVENT
UID:webmaster@cooper.edu
DTSTAMP; TZID=America/New_York:20150723T093000
ORGANIZER;CN=The Cooper Union:MAILTO:webmaster@cooper.edu
DTSTART; TZID=America/New_York:20150723T093000
DTEND; TZID=America/New_York:20150723T110000
SUMMARY:A Free, Public Panel: Women in STEM
DESCRIPTION:A discussion featuring women in Science, Technology, Engineering & Math fields from across the New York metropolitan area
END:VEVENT
END:VCALENDAR
