BEGIN:VCALENDAR
VERSION:2.0
PRODID:-//hacksw/handcal//NONSGML v1.0//EN
BEGIN:VEVENT
UID:webmaster@cooper.edu
DTSTAMP; TZID=America/New_York:20150721T190000
ORGANIZER;CN=The Cooper Union:MAILTO:webmaster@cooper.edu
DTSTART; TZID=America/New_York:20150721T190000
DTEND; TZID=America/New_York:20150721T210000
SUMMARY:Book Launch for Log 34: The Food Issue
DESCRIPTION:Cynthia Davidson will be in conversation with guest editors and contributors to celebrate the publication of Log 34: The Food Issue.
END:VEVENT
END:VCALENDAR
