BEGIN:VCALENDAR
VERSION:2.0
PRODID:-//hacksw/handcal//NONSGML v1.0//EN
BEGIN:VEVENT
UID:webmaster@cooper.edu
DTSTAMP; TZID=America/New_York:20150713T183000
ORGANIZER;CN=The Cooper Union:MAILTO:webmaster@cooper.edu
DTSTART; TZID=America/New_York:20150713T183000
DTEND; TZID=America/New_York:20150713T203000
SUMMARY:Learning to Design the Cherokee Syllabary
DESCRIPTION:Mark Jamra delivers a free, public lecture as part of Type@Cooper's Herb Lubalin Lecture Series
END:VEVENT
END:VCALENDAR
