BEGIN:VCALENDAR
VERSION:2.0
PRODID:-//hacksw/handcal//NONSGML v1.0//EN
BEGIN:VEVENT
UID:webmaster@cooper.edu
DTSTAMP; TZID=America/New_York:20150622T183000
ORGANIZER;CN=The Cooper Union:MAILTO:webmaster@cooper.edu
DTSTART; TZID=America/New_York:20150622T183000
DTEND; TZID=America/New_York:20150622T203000
SUMMARY:Ewan Clayton on "John Baskerville, Letter-founder"
DESCRIPTION:A free, public lecture on the 18th century typeface designer and his reintroduction of a forgotten tradition of handwritten romans
END:VEVENT
END:VCALENDAR
