BEGIN:VCALENDAR
VERSION:2.0
PRODID:-//hacksw/handcal//NONSGML v1.0//EN
BEGIN:VEVENT
UID:webmaster@cooper.edu
DTSTAMP; TZID=America/New_York:20150617T183000
ORGANIZER;CN=The Cooper Union:MAILTO:webmaster@cooper.edu
DTSTART; TZID=America/New_York:20150617T183000
DTEND; TZID=America/New_York:20150617T213000
SUMMARY:The Saturday Program Wearable Art Party
DESCRIPTION:To celebrate its 46th year, the Saturday Program will be hosting a costume/wearable art party on the 8th floor of The Cooper Union's Foundation Building
END:VEVENT
END:VCALENDAR
