BEGIN:VCALENDAR
VERSION:2.0
PRODID:-//hacksw/handcal//NONSGML v1.0//EN
BEGIN:VEVENT
UID:webmaster@cooper.edu
DTSTAMP; TZID=America/New_York:20150514T170000
ORGANIZER;CN=The Cooper Union:MAILTO:webmaster@cooper.edu
DTSTART; TZID=America/New_York:20150514T170000
DTEND; TZID=America/New_York:20150514T220000
SUMMARY:What's About to Happen in Architecture and Design Book Publishing
DESCRIPTION:A free and open book fair and panel discussion highlighting new developments in architecture and design book publishing
END:VEVENT
END:VCALENDAR
