BEGIN:VCALENDAR
VERSION:2.0
PRODID:-//hacksw/handcal//NONSGML v1.0//EN
BEGIN:VEVENT
UID:webmaster@cooper.edu
DTSTAMP; TZID=America/New_York:20150504T193000
ORGANIZER;CN=The Cooper Union:MAILTO:webmaster@cooper.edu
DTSTART; TZID=America/New_York:20150504T193000
DTEND; TZID=America/New_York:20150504T220000
SUMMARY:PEN World Voices Festival of International Literature Opening Night
DESCRIPTION:With a theme of "The Future Is Now," leading writers from around the globe present their worst- and best-case scenarios for where the world may be in the year 2050
END:VEVENT
END:VCALENDAR
