BEGIN:VCALENDAR
VERSION:2.0
PRODID:-//hacksw/handcal//NONSGML v1.0//EN
BEGIN:VEVENT
UID:webmaster@cooper.edu
DTSTAMP; TZID=America/New_York:20150513T183000
ORGANIZER;CN=The Cooper Union:MAILTO:webmaster@cooper.edu
DTSTART; TZID=America/New_York:20150513T183000
DTEND; TZID=America/New_York:20150513T200000
SUMMARY:Artist Gary Hume Delivers Spring 2015 Alex Katz Chair in Painting Lecture
DESCRIPTION:The internationally renowned British artist will discuss his latest works in a free, public lecture
END:VEVENT
END:VCALENDAR
