BEGIN:VCALENDAR
VERSION:2.0
PRODID:-//hacksw/handcal//NONSGML v1.0//EN
BEGIN:VEVENT
UID:webmaster@cooper.edu
DTSTAMP; TZID=America/New_York:20150429T173000
ORGANIZER;CN=The Cooper Union:MAILTO:webmaster@cooper.edu
DTSTART; TZID=America/New_York:20150429T173000
DTEND; TZID=America/New_York:20150429T183000
SUMMARY:2015 Cooper Union Formula Racer Rollout
DESCRIPTION:Eight months in the making, The Cooper Union Motorsports Team unveils its 2015 car
END:VEVENT
END:VCALENDAR
