BEGIN:VCALENDAR
VERSION:2.0
PRODID:-//hacksw/handcal//NONSGML v1.0//EN
BEGIN:VEVENT
UID:webmaster@cooper.edu
DTSTAMP; TZID=America/New_York:20150422T180000
ORGANIZER;CN=The Cooper Union:MAILTO:webmaster@cooper.edu
DTSTART; TZID=America/New_York:20150422T180000
DTEND; TZID=America/New_York:20150422T210000
SUMMARY:THE RITE OF SPRING | A PRESENTATION OF THE SELECTED DRAWINGS FROM THE STUDIO TEST OF THE  APPLICANTS ACCEPTED TO THE INCOMING CLASS
DESCRIPTION:
END:VEVENT
END:VCALENDAR
