BEGIN:VCALENDAR
VERSION:2.0
PRODID:-//hacksw/handcal//NONSGML v1.0//EN
BEGIN:VEVENT
UID:webmaster@cooper.edu
DTSTAMP; TZID=America/New_York:20150303T120000
ORGANIZER;CN=The Cooper Union:MAILTO:webmaster@cooper.edu
DTSTART; TZID=America/New_York:20150303T120000
DTEND; TZID=America/New_York:20150303T120000
SUMMARY:Infrastructure's Public Landscape: Civic Imagination & The End of Public Works
DESCRIPTION:A CU@Lunch Alumni Talks Lecture with Nicholas Pevzner.
END:VEVENT
END:VCALENDAR
