BEGIN:VCALENDAR
VERSION:2.0
PRODID:-//hacksw/handcal//NONSGML v1.0//EN
BEGIN:VEVENT
UID:webmaster@cooper.edu
DTSTAMP; TZID=America/New_York:20150313T130000
ORGANIZER;CN=The Cooper Union:MAILTO:webmaster@cooper.edu
DTSTART; TZID=America/New_York:20150313T130000
DTEND; TZID=America/New_York:20150313T170000
SUMMARY:Educators' Workshop: Teaching Towards Sustainability
DESCRIPTION:The Educators’ Workshop brought together a cross section of educational innovators who are working towards effective sustainability education. Cosponsored with the Wright-Ingraham Institute
END:VEVENT
END:VCALENDAR
BEGIN:VCALENDAR
VERSION:2.0
PRODID:-//hacksw/handcal//NONSGML v1.0//EN
BEGIN:VEVENT
UID:webmaster@cooper.edu
DTSTAMP; TZID=America/New_York:20150314T100000
ORGANIZER;CN=The Cooper Union:MAILTO:webmaster@cooper.edu
DTSTART; TZID=America/New_York:20150314T100000
DTEND; TZID=America/New_York:20150314T160000
SUMMARY:Educators' Workshop: Teaching Towards Sustainability
DESCRIPTION:The Educators’ Workshop brought together a cross section of educational innovators who are working towards effective sustainability education. Cosponsored with the Wright-Ingraham Institute
END:VEVENT
END:VCALENDAR
