BEGIN:VCALENDAR
VERSION:2.0
PRODID:-//hacksw/handcal//NONSGML v1.0//EN
BEGIN:VEVENT
UID:webmaster@cooper.edu
DTSTAMP; TZID=America/New_York:20150427T183000
ORGANIZER;CN=The Cooper Union:MAILTO:webmaster@cooper.edu
DTSTART; TZID=America/New_York:20150427T183000
DTEND; TZID=America/New_York:20150427T200000
SUMMARY:Interdisciplinary Lecture Series: Matthew Coolidge
DESCRIPTION:The founder and Director of the Center for Land Use Interpretation will deliver a free, public lecture on "Anthropogeomorphology and the Center for Land Use Interpretation"
END:VEVENT
END:VCALENDAR
