BEGIN:VCALENDAR
VERSION:2.0
PRODID:-//hacksw/handcal//NONSGML v1.0//EN
BEGIN:VEVENT
UID:webmaster@cooper.edu
DTSTAMP; TZID=America/New_York:20150420T183000
ORGANIZER;CN=The Cooper Union:MAILTO:webmaster@cooper.edu
DTSTART; TZID=America/New_York:20150420T183000
DTEND; TZID=America/New_York:20150420T200000
SUMMARY:Interdisciplinary Lecture Series: Paul Beatriz Preciado
DESCRIPTION:The philosopher and leading thinker in the study of gender and sexual politics delivers a free, public lecture titled, "THE SOMATOPOLITICAL REVOLUTION TO COME"
END:VEVENT
END:VCALENDAR
