BEGIN:VCALENDAR
VERSION:2.0
PRODID:-//hacksw/handcal//NONSGML v1.0//EN
BEGIN:VEVENT
UID:webmaster@cooper.edu
DTSTAMP; TZID=America/New_York:20150423T183000
ORGANIZER;CN=The Cooper Union:MAILTO:webmaster@cooper.edu
DTSTART; TZID=America/New_York:20150423T183000
DTEND; TZID=America/New_York:20150423T203000
SUMMARY:Lecture by Oliver Kruse
DESCRIPTION:Oliver Kruse will introduce the Insel Hombroich Foundation and discuss his work at this leading German cultural institution, committed to architecture, landscape and fine art.
END:VEVENT
END:VCALENDAR
