BEGIN:VCALENDAR
VERSION:2.0
PRODID:-//hacksw/handcal//NONSGML v1.0//EN
BEGIN:VEVENT
UID:webmaster@cooper.edu
DTSTAMP; TZID=America/New_York:20150411T150000
ORGANIZER;CN=The Cooper Union:MAILTO:webmaster@cooper.edu
DTSTART; TZID=America/New_York:20150411T150000
DTEND; TZID=America/New_York:20150411T180000
SUMMARY:School of Art Open Studio Night
DESCRIPTION:Open Studio Night for undergraduates at The School of Art
END:VEVENT
END:VCALENDAR
