BEGIN:VCALENDAR
VERSION:2.0
PRODID:-//hacksw/handcal//NONSGML v1.0//EN
BEGIN:VEVENT
UID:webmaster@cooper.edu
DTSTAMP; TZID=America/New_York:20150327T183000
ORGANIZER;CN=The Cooper Union:MAILTO:webmaster@cooper.edu
DTSTART; TZID=America/New_York:20150327T183000
DTEND; TZID=America/New_York:20150327T203000
SUMMARY:Faculty Talk: Elizabeth O'Donnell
DESCRIPTION:Elizabeth O'Donnell will discuss her recent trip to Tehran as a member of the jury for the Bamiyan Cultural Centre design competition.
END:VEVENT
END:VCALENDAR
