BEGIN:VCALENDAR
VERSION:2.0
PRODID:-//hacksw/handcal//NONSGML v1.0//EN
BEGIN:VEVENT
UID:webmaster@cooper.edu
DTSTAMP; TZID=America/New_York:20150512T193000
ORGANIZER;CN=The Cooper Union:MAILTO:webmaster@cooper.edu
DTSTART; TZID=America/New_York:20150512T193000
DTEND; TZID=America/New_York:20150512T213000
SUMMARY:A Celebration of Poet Galway Kinnell’s Life and Work
DESCRIPTION:A free, public tribute to the life and work of American poet Galway Kinnell (1927-2014) will feature a variety of poets and writers reciting his works
END:VEVENT
END:VCALENDAR
