BEGIN:VCALENDAR
VERSION:2.0
PRODID:-//hacksw/handcal//NONSGML v1.0//EN
BEGIN:VEVENT
UID:webmaster@cooper.edu
DTSTAMP; TZID=America/New_York:20150413T183000
ORGANIZER;CN=The Cooper Union:MAILTO:webmaster@cooper.edu
DTSTART; TZID=America/New_York:20150413T183000
DTEND; TZID=America/New_York:20150413T200000
SUMMARY:Antoni Muntadas: "For a Project Methodology"
DESCRIPTION:The internationally-exhibited artist discusses his latest work in a free, public lecture
END:VEVENT
END:VCALENDAR
