BEGIN:VCALENDAR
VERSION:2.0
PRODID:-//hacksw/handcal//NONSGML v1.0//EN
BEGIN:VEVENT
UID:webmaster@cooper.edu
DTSTAMP; TZID=America/New_York:20150316T190000
ORGANIZER;CN=The Cooper Union:MAILTO:webmaster@cooper.edu
DTSTART; TZID=America/New_York:20150316T190000
DTEND; TZID=America/New_York:20150316T190000
SUMMARY:My Womb! My Decision!: Stories of Sexual and Reproductive Justice and Activism | Student Run Lecture
DESCRIPTION:
END:VEVENT
END:VCALENDAR
