BEGIN:VCALENDAR
VERSION:2.0
PRODID:-//hacksw/handcal//NONSGML v1.0//EN
BEGIN:VEVENT
UID:webmaster@cooper.edu
DTSTAMP; TZID=America/New_York:20150310T123000
ORGANIZER;CN=The Cooper Union:MAILTO:webmaster@cooper.edu
DTSTART; TZID=America/New_York:20150310T123000
DTEND; TZID=America/New_York:20150310T133000
SUMMARY: SPQ Art + Social Action MFA Information Session | Gregory Sholette
DESCRIPTION:
END:VEVENT
END:VCALENDAR
