BEGIN:VCALENDAR
VERSION:2.0
PRODID:-//hacksw/handcal//NONSGML v1.0//EN
BEGIN:VEVENT
UID:webmaster@cooper.edu
DTSTAMP; TZID=America/New_York:20150324T120000
ORGANIZER;CN=The Cooper Union:MAILTO:webmaster@cooper.edu
DTSTART; TZID=America/New_York:20150324T120000
DTEND; TZID=America/New_York:20150324T140000
SUMMARY:Sustaining Architecture:  Design Practice and the Matter of Care
DESCRIPTION:This talk is based on fieldwork in the architecture school at the University of Buenos Aires in the years following Argentina's economic and political crisis in 2001.
END:VEVENT
END:VCALENDAR
