BEGIN:VCALENDAR
VERSION:2.0
PRODID:-//hacksw/handcal//NONSGML v1.0//EN
BEGIN:VEVENT
UID:webmaster@cooper.edu
DTSTAMP; TZID=America/New_York:20150324T183000
ORGANIZER;CN=The Cooper Union:MAILTO:webmaster@cooper.edu
DTSTART; TZID=America/New_York:20150324T183000
DTEND; TZID=America/New_York:20150324T200000
SUMMARY:Designing the Obsidian Typeface
DESCRIPTION:Andy Clymer, a senior designer at Hoefler & Co. shares a look at the design process, the custom tools involved and some of the unexpected challenges and discoveries found while designing the Obsidian typeface
END:VEVENT
END:VCALENDAR
