BEGIN:VCALENDAR
VERSION:2.0
PRODID:-//hacksw/handcal//NONSGML v1.0//EN
BEGIN:VEVENT
UID:webmaster@cooper.edu
DTSTAMP; TZID=America/New_York:20150305T183000
ORGANIZER;CN=The Cooper Union:MAILTO:webmaster@cooper.edu
DTSTART; TZID=America/New_York:20150305T183000
DTEND; TZID=America/New_York:20150305T203000
SUMMARY:Lecture by Hélène Binet
DESCRIPTION:Hélène Binet is one of the foremost architectural photographers of our time. Her list of clients includes architects Raoul Bunschoten, Caruso St John, Zaha Hadid, Daniel Libeskind, Studio Mumbai, Peter Zumthor and many others.
END:VEVENT
END:VCALENDAR
