BEGIN:VCALENDAR
VERSION:2.0
PRODID:-//hacksw/handcal//NONSGML v1.0//EN
BEGIN:VEVENT
UID:webmaster@cooper.edu
DTSTAMP; TZID=America/New_York:20150313T183000
ORGANIZER;CN=The Cooper Union:MAILTO:webmaster@cooper.edu
DTSTART; TZID=America/New_York:20150313T183000
DTEND; TZID=America/New_York:20150313T200000
SUMMARY:Author Discussion: Barry Strauss on "The Death of Caesar"
DESCRIPTION:In a free, public lecture one of the world's leading experts on ancient history shows what was at stake in history's most consequential assassination
END:VEVENT
END:VCALENDAR
