BEGIN:VCALENDAR
VERSION:2.0
PRODID:-//hacksw/handcal//NONSGML v1.0//EN
BEGIN:VEVENT
UID:webmaster@cooper.edu
DTSTAMP; TZID=America/New_York:20150407T183000
ORGANIZER;CN=The Cooper Union:MAILTO:webmaster@cooper.edu
DTSTART; TZID=America/New_York:20150407T183000
DTEND; TZID=America/New_York:20150407T203000
SUMMARY:Ernst Schneidler and His Students
DESCRIPTION:A free, public presention of a rich selection of the calligraphy, type design and book design of Schneidler and his students in a high definition show and tell from the collection of the Letterform Archive
END:VEVENT
END:VCALENDAR
