BEGIN:VCALENDAR
VERSION:2.0
PRODID:-//hacksw/handcal//NONSGML v1.0//EN
BEGIN:VEVENT
UID:webmaster@cooper.edu
DTSTAMP; TZID=America/New_York:20150305T183000
ORGANIZER;CN=The Cooper Union:MAILTO:webmaster@cooper.edu
DTSTART; TZID=America/New_York:20150305T183000
DTEND; TZID=America/New_York:20150305T203000
SUMMARY:Victor Moscoso A'57: Type Confusion and Color Aggression
DESCRIPTION:Renowned psychedelic poster artist, underground cartoonist and Cooper Union graduate Victor Moscoso will discuss his work in a free, public conversation
END:VEVENT
END:VCALENDAR
