BEGIN:VCALENDAR
VERSION:2.0
PRODID:-//hacksw/handcal//NONSGML v1.0//EN
BEGIN:VEVENT
UID:webmaster@cooper.edu
DTSTAMP; TZID=America/New_York:20150307T000000
ORGANIZER;CN=The Cooper Union:MAILTO:webmaster@cooper.edu
DTSTART; TZID=America/New_York:20150307T000000
DTEND; TZID=America/New_York:20150308T000000
SUMMARY:Breakthroughs in Twice Exceptional Education
DESCRIPTION:A national conference bringing together caregivers, educators and advocates of children who are gifted and learn differently
END:VEVENT
END:VCALENDAR
