BEGIN:VCALENDAR
VERSION:2.0
PRODID:-//hacksw/handcal//NONSGML v1.0//EN
BEGIN:VEVENT
UID:webmaster@cooper.edu
DTSTAMP; TZID=America/New_York:20150130T190000
ORGANIZER;CN=The Cooper Union:MAILTO:webmaster@cooper.edu
DTSTART; TZID=America/New_York:20150130T190000
DTEND; TZID=America/New_York:20150130T210000
SUMMARY:The National Mall: A Panel Discussion
DESCRIPTION:Architecture firms will be discussing the challenges and opportunities of intervening in the design of The National Mall
END:VEVENT
END:VCALENDAR
