BEGIN:VCALENDAR
VERSION:2.0
PRODID:-//hacksw/handcal//NONSGML v1.0//EN
BEGIN:VEVENT
UID:webmaster@cooper.edu
DTSTAMP; TZID=America/New_York:20150612T100000
ORGANIZER;CN=The Cooper Union:MAILTO:webmaster@cooper.edu
DTSTART; TZID=America/New_York:20150612T100000
DTEND; TZID=America/New_York:20150612T183000
SUMMARY:Typographics
DESCRIPTION:A two-day conference for people who use type
END:VEVENT
END:VCALENDAR
BEGIN:VCALENDAR
VERSION:2.0
PRODID:-//hacksw/handcal//NONSGML v1.0//EN
BEGIN:VEVENT
UID:webmaster@cooper.edu
DTSTAMP; TZID=America/New_York:20150613T100000
ORGANIZER;CN=The Cooper Union:MAILTO:webmaster@cooper.edu
DTSTART; TZID=America/New_York:20150613T100000
DTEND; TZID=America/New_York:20150613T183000
SUMMARY:Typographics
DESCRIPTION:A two-day conference for people who use type
END:VEVENT
END:VCALENDAR
