BEGIN:VCALENDAR
VERSION:2.0
PRODID:-//hacksw/handcal//NONSGML v1.0//EN
BEGIN:VEVENT
UID:webmaster@cooper.edu
DTSTAMP; TZID=America/New_York:20150205T143000
ORGANIZER;CN=The Cooper Union:MAILTO:webmaster@cooper.edu
DTSTART; TZID=America/New_York:20150205T143000
DTEND; TZID=America/New_York:20150205T163000
SUMMARY:John Huddy AR'85: A Memorial
DESCRIPTION:Remembering the life of John Huddy (1959-2014), graduate, professor, member of the board of trustees, major donor and great freind
END:VEVENT
END:VCALENDAR
