BEGIN:VCALENDAR
VERSION:2.0
PRODID:-//hacksw/handcal//NONSGML v1.0//EN
BEGIN:VEVENT
UID:webmaster@cooper.edu
DTSTAMP; TZID=America/New_York:20150204T190000
ORGANIZER;CN=The Cooper Union:MAILTO:webmaster@cooper.edu
DTSTART; TZID=America/New_York:20150204T190000
DTEND; TZID=America/New_York:20150204T200000
SUMMARY:Beyoncé’s Blueprint for Building a Queer World
DESCRIPTION:In a free, open lecture Kevin Allred puts black feminist texts in conversation with Beyoncé, illuminating her long history of affirming and empowering queer lives
END:VEVENT
END:VCALENDAR
