BEGIN:VCALENDAR
VERSION:2.0
PRODID:-//hacksw/handcal//NONSGML v1.0//EN
BEGIN:VEVENT
UID:webmaster@cooper.edu
DTSTAMP; TZID=America/New_York:20150220T183000
ORGANIZER;CN=The Cooper Union:MAILTO:webmaster@cooper.edu
DTSTART; TZID=America/New_York:20150220T183000
DTEND; TZID=America/New_York:20150220T203000
SUMMARY:Cities of the Dead: Lecture and Discussion
DESCRIPTION:In conjunction with her exhibition of photographs of Kyrgyz cemeteries Margaret Morton talks with Nasser Rabbat, director of the Aga Khan Program for Islamic Architecture at MIT
END:VEVENT
END:VCALENDAR
