BEGIN:VCALENDAR
VERSION:2.0
PRODID:-//hacksw/handcal//NONSGML v1.0//EN
BEGIN:VEVENT
UID:webmaster@cooper.edu
DTSTAMP; TZID=America/New_York:20150214T120000
ORGANIZER;CN=The Cooper Union:MAILTO:webmaster@cooper.edu
DTSTART; TZID=America/New_York:20150214T120000
DTEND; TZID=America/New_York:20150215T120000
SUMMARY:HackCooper 2015
DESCRIPTION:24 hours, open labs and free materials to build your hardware or software project. Free and open to all high school, undergraduate and graduate students
END:VEVENT
END:VCALENDAR
