BEGIN:VCALENDAR
VERSION:2.0
PRODID:-//hacksw/handcal//NONSGML v1.0//EN
BEGIN:VEVENT
UID:webmaster@cooper.edu
DTSTAMP; TZID=America/New_York:20150427T180000
ORGANIZER;CN=The Cooper Union:MAILTO:webmaster@cooper.edu
DTSTART; TZID=America/New_York:20150427T180000
DTEND; TZID=America/New_York:20150427T190000
SUMMARY:How Shakespeare Works: A Free Night Course
DESCRIPTION:An introduction to Shakespeare's plays in a series of nine, free lectures by William Germano, Ph.D., dean of the faculty of humanities and social sciences
END:VEVENT
END:VCALENDAR
BEGIN:VCALENDAR
VERSION:2.0
PRODID:-//hacksw/handcal//NONSGML v1.0//EN
BEGIN:VEVENT
UID:webmaster@cooper.edu
DTSTAMP; TZID=America/New_York:20150420T180000
ORGANIZER;CN=The Cooper Union:MAILTO:webmaster@cooper.edu
DTSTART; TZID=America/New_York:20150420T180000
DTEND; TZID=America/New_York:20150420T190000
SUMMARY:How Shakespeare Works: A Free Night Course
DESCRIPTION:An introduction to Shakespeare's plays in a series of nine, free lectures by William Germano, Ph.D., dean of the faculty of humanities and social sciences
END:VEVENT
END:VCALENDAR
BEGIN:VCALENDAR
VERSION:2.0
PRODID:-//hacksw/handcal//NONSGML v1.0//EN
BEGIN:VEVENT
UID:webmaster@cooper.edu
DTSTAMP; TZID=America/New_York:20150427T180000
ORGANIZER;CN=The Cooper Union:MAILTO:webmaster@cooper.edu
DTSTART; TZID=America/New_York:20150427T180000
DTEND; TZID=America/New_York:20150427T190000
SUMMARY:How Shakespeare Works: A Free Night Course
DESCRIPTION:An introduction to Shakespeare's plays in a series of nine, free lectures by William Germano, Ph.D., dean of the faculty of humanities and social sciences
END:VEVENT
END:VCALENDAR
BEGIN:VCALENDAR
VERSION:2.0
PRODID:-//hacksw/handcal//NONSGML v1.0//EN
BEGIN:VEVENT
UID:webmaster@cooper.edu
DTSTAMP; TZID=America/New_York:20150511T180000
ORGANIZER;CN=The Cooper Union:MAILTO:webmaster@cooper.edu
DTSTART; TZID=America/New_York:20150511T180000
DTEND; TZID=America/New_York:20150511T190000
SUMMARY:How Shakespeare Works: A Free Night Course
DESCRIPTION:An introduction to Shakespeare's plays in a series of nine, free lectures by William Germano, Ph.D., dean of the faculty of humanities and social sciences
END:VEVENT
END:VCALENDAR
