BEGIN:VCALENDAR
VERSION:2.0
PRODID:-//hacksw/handcal//NONSGML v1.0//EN
BEGIN:VEVENT
UID:webmaster@cooper.edu
DTSTAMP; TZID=America/New_York:20150203T183000
ORGANIZER;CN=The Cooper Union:MAILTO:webmaster@cooper.edu
DTSTART; TZID=America/New_York:20150203T183000
DTEND; TZID=America/New_York:20150203T203000
SUMMARY:Public Reception | Cities of the Dead: The Ancestral Cemeteries of Kyrgyzstan
DESCRIPTION:Photographs by Margaret Morton during her travels through Kyrgyzstan.
END:VEVENT
END:VCALENDAR
