BEGIN:VCALENDAR
VERSION:2.0
PRODID:-//hacksw/handcal//NONSGML v1.0//EN
BEGIN:VEVENT
UID:webmaster@cooper.edu
DTSTAMP; TZID=America/New_York:20141107T180000
ORGANIZER;CN=The Cooper Union:MAILTO:webmaster@cooper.edu
DTSTART; TZID=America/New_York:20141107T180000
DTEND; TZID=America/New_York:20141107T180000
SUMMARY:Panel Discussion | Dissent Under Surveillance 
DESCRIPTION:A free, public discussion on uncovering state secrets with experts in the fields of research, journalism and law
END:VEVENT
END:VCALENDAR
