BEGIN:VCALENDAR
VERSION:2.0
PRODID:-//hacksw/handcal//NONSGML v1.0//EN
BEGIN:VEVENT
UID:webmaster@cooper.edu
DTSTAMP; TZID=America/New_York:20140925T183000
ORGANIZER;CN=The Cooper Union:MAILTO:webmaster@cooper.edu
DTSTART; TZID=America/New_York:20140925T183000
DTEND; TZID=America/New_York:20140925T200000
SUMMARY:Lecture by Diana Agrest: Architecture as a Transdiscursive Field
DESCRIPTION:This free, public talk is presented as part of the Master of Architecture II Lecture Series
END:VEVENT
END:VCALENDAR
