BEGIN:VCALENDAR
VERSION:2.0
PRODID:-//hacksw/handcal//NONSGML v1.0//EN
BEGIN:VEVENT
UID:webmaster@cooper.edu
DTSTAMP; TZID=America/New_York:20140909T190000
ORGANIZER;CN=The Cooper Union:MAILTO:webmaster@cooper.edu
DTSTART; TZID=America/New_York:20140909T190000
DTEND; TZID=America/New_York:20140909T203000
SUMMARY:Jonathan Monk: Making it up as I go along, Part I
DESCRIPTION:In a free, public lecture, the artist Jonathan Monk will be presented with slides of his work, in random order, drawing new and unexpected connections between them
END:VEVENT
END:VCALENDAR
