BEGIN:VCALENDAR
VERSION:2.0
PRODID:-//hacksw/handcal//NONSGML v1.0//EN
BEGIN:VEVENT
UID:webmaster@cooper.edu
DTSTAMP; TZID=America/New_York:20140331T190000
ORGANIZER;CN=The Cooper Union:MAILTO:webmaster@cooper.edu
DTSTART; TZID=America/New_York:20140331T190000
DTEND; TZID=America/New_York:20140331T203000
SUMMARY:Designer and Curator Prem Krishnamurthy on "Double Agency"
DESCRIPTION:A free, public seminar on the related goals, means and challenges of design and curating presented by a founding principal of the award-winning design studio Project Projects
END:VEVENT
END:VCALENDAR
