BEGIN:VCALENDAR
VERSION:2.0
PRODID:-//hacksw/handcal//NONSGML v1.0//EN
BEGIN:VEVENT
UID:webmaster@cooper.edu
DTSTAMP; TZID=America/New_York:20140309T140000
ORGANIZER;CN=The Cooper Union:MAILTO:webmaster@cooper.edu
DTSTART; TZID=America/New_York:20140309T140000
DTEND; TZID=America/New_York:20140309T153000
SUMMARY:Author's Talk | The Warrior State: Pakistan In The Contemporary World
DESCRIPTION:A free, public talk by South Asia scholar T.V. Paul on his new book exploring Pakistan’s geopolitical struggles
END:VEVENT
END:VCALENDAR
