BEGIN:VCALENDAR
VERSION:2.0
PRODID:-//hacksw/handcal//NONSGML v1.0//EN
BEGIN:VEVENT
UID:webmaster@cooper.edu
DTSTAMP; TZID=America/New_York:20140404T183000
ORGANIZER;CN=The Cooper Union:MAILTO:webmaster@cooper.edu
DTSTART; TZID=America/New_York:20140404T183000
DTEND; TZID=America/New_York:20140404T200000
SUMMARY:Nature as Measure
DESCRIPTION:Wendell Berry and Wes Jackson discuss agriculture and the future of farming with Mark Bittman in a free, public event
END:VEVENT
END:VCALENDAR
