BEGIN:VCALENDAR
VERSION:2.0
PRODID:-//hacksw/handcal//NONSGML v1.0//EN
BEGIN:VEVENT
UID:webmaster@cooper.edu
DTSTAMP; TZID=America/New_York:20140407T000000
ORGANIZER;CN=The Cooper Union:MAILTO:webmaster@cooper.edu
DTSTART; TZID=America/New_York:20140407T000000
DTEND; TZID=America/New_York:20140412T000000
SUMMARY:The Model Block: an exhibit
DESCRIPTION:The Model Block represents the culmination of a multi-year project which focused on the East 4th Street Cultural District (between 2nd Ave & Bowery) as a testing ground for new and innovative solutions to the complexities of urban sustainability at the block scale.
END:VEVENT
END:VCALENDAR
