BEGIN:VCALENDAR
VERSION:2.0
PRODID:-//hacksw/handcal//NONSGML v1.0//EN
BEGIN:VEVENT
UID:webmaster@cooper.edu
DTSTAMP; TZID=America/New_York:20131025T100000
ORGANIZER;CN=The Cooper Union:MAILTO:webmaster@cooper.edu
DTSTART; TZID=America/New_York:20131025T100000
DTEND; TZID=America/New_York:20131025T183000
SUMMARY:CREATIVE TIME SUMMIT SCREENING
DESCRIPTION:
END:VEVENT
END:VCALENDAR
BEGIN:VCALENDAR
VERSION:2.0
PRODID:-//hacksw/handcal//NONSGML v1.0//EN
BEGIN:VEVENT
UID:webmaster@cooper.edu
DTSTAMP; TZID=America/New_York:20131026T110000
ORGANIZER;CN=The Cooper Union:MAILTO:webmaster@cooper.edu
DTSTART; TZID=America/New_York:20131026T110000
DTEND; TZID=America/New_York:20131026T173000
SUMMARY:CREATIVE TIME SUMMIT SCREENING
DESCRIPTION:
END:VEVENT
END:VCALENDAR
