BEGIN:VCALENDAR
VERSION:2.0
PRODID:-//hacksw/handcal//NONSGML v1.0//EN
BEGIN:VEVENT
UID:webmaster@cooper.edu
DTSTAMP; TZID=America/New_York:20131020T150000
ORGANIZER;CN=The Cooper Union:MAILTO:webmaster@cooper.edu
DTSTART; TZID=America/New_York:20131020T150000
DTEND; TZID=America/New_York:20131020T170000
SUMMARY:Richard Knox: In the Details
DESCRIPTION:Richard Knox, Cooper Union School of Art alum, shop technician, artist and friend, passed away on July 4th 2013. A celebration of his life and work will be held in the gallery on Sunday, the 20th of October.
END:VEVENT
END:VCALENDAR
